BEGIN:VCALENDAR
VERSION:2.0
PRODID:-//hacksw/handcal//NONSGML v1.0//EN
BEGIN:VEVENT
SUMMARY:Finale de District LR2  St GALMIER
UID:e62591d4-973e-42b3-96bf-49e91f70a2dd
DTSTART:20260502T063000Z
DTEND:20260502T173000Z
LOCATION:Localisation   
CATEGORIES:Sportif
STATUS:
DESCRIPTION:<p>Finale de District LR2</p><p>Joueur : Joel </p>
URL;VALUE=URI:https://www.billardclubplaineduforez.com/evenements/2026/05/02/finale-de-district-lr2-st-galmier-2439138
END:VEVENT
END:VCALENDAR
