BEGIN:VCALENDAR
VERSION:2.0
PRODID:-//hacksw/handcal//NONSGML v1.0//EN
BEGIN:VEVENT
SUMMARY:Finale de Ligue JDS FED 4
UID:6dd44bcc-d9be-4342-b381-3dc472aa73c0
DTSTART:20260424T220000Z
DTEND:20260425T220000Z
LOCATION:Localisation   
CATEGORIES:Sportif
STATUS:
DESCRIPTION:Joueurs : Michel, Ulrich et Joel 
URL;VALUE=URI:https://www.billardclubplaineduforez.com/evenements/2026/04/25/finale-de-ligue-jds-fed-4-2439131
END:VEVENT
END:VCALENDAR
