BEGIN:VCALENDAR
VERSION:2.0
PRODID:-//hacksw/handcal//NONSGML v1.0//EN
BEGIN:VEVENT
SUMMARY:3Bdes equipe
UID:96b49fde-d0d7-411d-8d4f-4b384c8cd35b
DTSTART:20260418T220000Z
DTEND:20260419T220000Z
LOCATION:Localisation   
CATEGORIES:Sportif
STATUS:
DESCRIPTION:<p>3Bdes par equipe</p><p>Joueurs Thibaut </p><p> 
  Joel </p><p><br></p>
URL;VALUE=URI:https://www.billardclubplaineduforez.com/evenements/2026/04/19/3bdes-equipe-2439127
END:VEVENT
END:VCALENDAR
