BEGIN:VCALENDAR
VERSION:2.0
PRODID:-//hacksw/handcal//NONSGML v1.0//EN
BEGIN:VEVENT
SUMMARY:1/2 Finale de Ligue
UID:6baf6d37-07ad-4006-8b53-acb596cba439
DTSTART:20260411T063000Z
DTEND:20260411T163000Z
LOCATION:Localisation   
CATEGORIES:Sportif
STATUS:
DESCRIPTION:<p>Cadre R1</p><p>Joueur Joel </p><p><br></p>
URL;VALUE=URI:https://www.billardclubplaineduforez.com/evenements/2026/04/11/12-finale-de-ligue-2439124
END:VEVENT
END:VCALENDAR
