BEGIN:VCALENDAR
VERSION:2.0
PRODID:-//hacksw/handcal//NONSGML v1.0//EN
BEGIN:VEVENT
SUMMARY:Tournoi BR1 a AB43
UID:0a2160ef-f5a9-4404-a34d-c23d6e5c91cc
DTSTART:20260117T073000Z
DTEND:20260117T173000Z
LOCATION:Localisation   
CATEGORIES:Sportif
STATUS:
DESCRIPTION:<p>Tournoi BR1 au Puy en Velay</p><p>2 Joueurs du
 BCPF </p><p>Michel et Joel </p>
URL;VALUE=URI:https://www.billardclubplaineduforez.com/evenements/2026/01/17/tournoi-br1-a-ab43-2396747
END:VEVENT
END:VCALENDAR
